BEGIN:VCALENDAR
VERSION:2.0
PRODID:-//Autograf//Djoin//NO
METHOD:PUBLISH
BEGIN:VTIMEZONE
TZID:Europe/Oslo
BEGIN:DAYLIGHT
TZOFFSETFROM:+0100
RRULE:FREQ=YEARLY;BYMONTH=3;BYDAY=-1SU
DTSTART:19810329T020000
TZNAME:CEST
TZOFFSETTO:+0200
END:DAYLIGHT
BEGIN:STANDARD
TZOFFSETFROM:+0200
RRULE:FREQ=YEARLY;BYMONTH=10;BYDAY=-1SU
DTSTART:19961027T030000
TZNAME:CET
TZOFFSETTO:+0100
END:STANDARD
END:VTIMEZONE
BEGIN:VEVENT
UID:feb3a52fa7fb7604664e940cd3a58eb7
DTSTAMP:20260420T053857Z
DTSTART;TZID=Europe/Oslo:20260421T150000Z
DTEND;TZID=Europe/Oslo:20260421T160000Z
URL:https://www.1egersund.no/aktivitet/4335
SUMMARY:Bevere: Kreativitet og lek
LOCATION:
END:VEVENT
END:VCALENDAR